BEGIN:VCALENDAR
VERSION:2.0
PRODID:-//Hallett Cove School R-12 - ECPv6.15.17.1//NONSGML v1.0//EN
CALSCALE:GREGORIAN
METHOD:PUBLISH
X-WR-CALNAME:Hallett Cove School R-12
X-ORIGINAL-URL:https://hcs.sa.edu.au
X-WR-CALDESC:Events for Hallett Cove School R-12
REFRESH-INTERVAL;VALUE=DURATION:PT1H
X-Robots-Tag:noindex
X-PUBLISHED-TTL:PT1H
BEGIN:VTIMEZONE
TZID:Australia/Adelaide
BEGIN:STANDARD
TZOFFSETFROM:+1030
TZOFFSETTO:+0930
TZNAME:ACST
DTSTART:20250405T163000
END:STANDARD
BEGIN:DAYLIGHT
TZOFFSETFROM:+0930
TZOFFSETTO:+1030
TZNAME:ACDT
DTSTART:20251004T163000
END:DAYLIGHT
BEGIN:STANDARD
TZOFFSETFROM:+1030
TZOFFSETTO:+0930
TZNAME:ACST
DTSTART:20260404T163000
END:STANDARD
BEGIN:DAYLIGHT
TZOFFSETFROM:+0930
TZOFFSETTO:+1030
TZNAME:ACDT
DTSTART:20261003T163000
END:DAYLIGHT
BEGIN:STANDARD
TZOFFSETFROM:+1030
TZOFFSETTO:+0930
TZNAME:ACST
DTSTART:20270403T163000
END:STANDARD
BEGIN:DAYLIGHT
TZOFFSETFROM:+0930
TZOFFSETTO:+1030
TZNAME:ACDT
DTSTART:20271002T163000
END:DAYLIGHT
END:VTIMEZONE
BEGIN:VEVENT
DTSTART;VALUE=DATE:20260411
DTEND;VALUE=DATE:20260427
DTSTAMP:20260417T103217
CREATED:20251218T001623Z
LAST-MODIFIED:20251218T001623Z
UID:251808-1775865600-1777247999@hcs.sa.edu.au
SUMMARY:School Holidays
DESCRIPTION:
URL:https://hcs.sa.edu.au/event/school-holidays-4/
CATEGORIES:Whole School
ATTACH;FMTTYPE=image/jpeg:https://hcs.sa.edu.au/wp-content/uploads/IMG_1675-scaled.jpg
END:VEVENT
BEGIN:VEVENT
DTSTART;VALUE=DATE:20260427
DTEND;VALUE=DATE:20260428
DTSTAMP:20260417T103217
CREATED:20251218T012557Z
LAST-MODIFIED:20251218T012557Z
UID:251894-1777248000-1777334399@hcs.sa.edu.au
SUMMARY:Pupil Free Day
DESCRIPTION:
URL:https://hcs.sa.edu.au/event/pupil-free-day-17/
CATEGORIES:Whole School
END:VEVENT
BEGIN:VEVENT
DTSTART;VALUE=DATE:20260427
DTEND;VALUE=DATE:20260502
DTSTAMP:20260417T103217
CREATED:20251218T025356Z
LAST-MODIFIED:20251218T025356Z
UID:251959-1777248000-1777679999@hcs.sa.edu.au
SUMMARY:Term 2\, Week 1
DESCRIPTION:
URL:https://hcs.sa.edu.au/event/term-2-week-1/
CATEGORIES:Whole School
END:VEVENT
BEGIN:VEVENT
DTSTART;VALUE=DATE:20260504
DTEND;VALUE=DATE:20260509
DTSTAMP:20260417T103217
CREATED:20251218T025422Z
LAST-MODIFIED:20251218T025422Z
UID:251961-1777852800-1778284799@hcs.sa.edu.au
SUMMARY:Term 2\, Week 2
DESCRIPTION:
URL:https://hcs.sa.edu.au/event/term-2-week-2/
CATEGORIES:Whole School
END:VEVENT
BEGIN:VEVENT
DTSTART;VALUE=DATE:20260511
DTEND;VALUE=DATE:20260516
DTSTAMP:20260417T103217
CREATED:20251218T025443Z
LAST-MODIFIED:20251218T025443Z
UID:251963-1778457600-1778889599@hcs.sa.edu.au
SUMMARY:Term 2\, Week 3
DESCRIPTION:
URL:https://hcs.sa.edu.au/event/term-2-week-3/
CATEGORIES:Whole School
END:VEVENT
BEGIN:VEVENT
DTSTART;VALUE=DATE:20260514
DTEND;VALUE=DATE:20260515
DTSTAMP:20260417T103217
CREATED:20251218T023025Z
LAST-MODIFIED:20251218T023025Z
UID:251919-1778716800-1778803199@hcs.sa.edu.au
SUMMARY:R-12 Careers Dress Up Day
DESCRIPTION:
URL:https://hcs.sa.edu.au/event/r-12-careers-dress-up-day/
CATEGORIES:Whole School
ATTACH;FMTTYPE=image/jpeg:https://hcs.sa.edu.au/wp-content/uploads/IMG_4744-scaled.jpg
END:VEVENT
BEGIN:VEVENT
DTSTART;TZID=Australia/Adelaide:20260515T080000
DTEND;TZID=Australia/Adelaide:20260515T170000
DTSTAMP:20260417T103217
CREATED:20260413T054556Z
LAST-MODIFIED:20260413T054556Z
UID:252527-1778832000-1778864400@hcs.sa.edu.au
SUMMARY:5 Year Reunion - Cove Tavern
DESCRIPTION:
URL:https://hcs.sa.edu.au/event/5-year-reunion-cove-tavern/
CATEGORIES:Whole School
ATTACH;FMTTYPE=image/png:https://hcs.sa.edu.au/wp-content/uploads/5-yr-reunion.png
END:VEVENT
BEGIN:VEVENT
DTSTART;VALUE=DATE:20260518
DTEND;VALUE=DATE:20260523
DTSTAMP:20260417T103217
CREATED:20251218T025505Z
LAST-MODIFIED:20251218T025505Z
UID:251965-1779062400-1779494399@hcs.sa.edu.au
SUMMARY:Term 2\, Week 4
DESCRIPTION:
URL:https://hcs.sa.edu.au/event/term-2-week-4/
CATEGORIES:Whole School
END:VEVENT
BEGIN:VEVENT
DTSTART;VALUE=DATE:20260525
DTEND;VALUE=DATE:20260530
DTSTAMP:20260417T103217
CREATED:20251218T025531Z
LAST-MODIFIED:20251218T025531Z
UID:251967-1779667200-1780099199@hcs.sa.edu.au
SUMMARY:Term 2\, Week 5
DESCRIPTION:
URL:https://hcs.sa.edu.au/event/term-2-week-5/
CATEGORIES:Whole School
END:VEVENT
BEGIN:VEVENT
DTSTART;VALUE=DATE:20260525
DTEND;VALUE=DATE:20260606
DTSTAMP:20260417T103217
CREATED:20251218T023855Z
LAST-MODIFIED:20251218T023946Z
UID:251929-1779667200-1780703999@hcs.sa.edu.au
SUMMARY:Dental Visit
DESCRIPTION:
URL:https://hcs.sa.edu.au/event/dental-visit-5/
CATEGORIES:Whole School
ATTACH;FMTTYPE=image/jpeg:https://hcs.sa.edu.au/wp-content/uploads/Capture-58.jpg
END:VEVENT
BEGIN:VEVENT
DTSTART;VALUE=DATE:20260527
DTEND;VALUE=DATE:20260604
DTSTAMP:20260417T103217
CREATED:20251218T024144Z
LAST-MODIFIED:20251218T024144Z
UID:251931-1779840000-1780531199@hcs.sa.edu.au
SUMMARY:Reconciliation Week
DESCRIPTION:
URL:https://hcs.sa.edu.au/event/reconciliation-week-4/
CATEGORIES:Whole School
END:VEVENT
BEGIN:VEVENT
DTSTART;VALUE=DATE:20260601
DTEND;VALUE=DATE:20260606
DTSTAMP:20260417T103217
CREATED:20251218T025555Z
LAST-MODIFIED:20251218T025555Z
UID:251969-1780272000-1780703999@hcs.sa.edu.au
SUMMARY:Term 2\, Week 6
DESCRIPTION:
URL:https://hcs.sa.edu.au/event/term-2-week-6/
CATEGORIES:Whole School
END:VEVENT
BEGIN:VEVENT
DTSTART;VALUE=DATE:20260608
DTEND;VALUE=DATE:20260609
DTSTAMP:20260417T103217
CREATED:20251218T024531Z
LAST-MODIFIED:20251218T024531Z
UID:251937-1780876800-1780963199@hcs.sa.edu.au
SUMMARY:Public Holiday
DESCRIPTION:
URL:https://hcs.sa.edu.au/event/public-holiday-3/
CATEGORIES:Whole School
END:VEVENT
BEGIN:VEVENT
DTSTART;VALUE=DATE:20260608
DTEND;VALUE=DATE:20260613
DTSTAMP:20260417T103217
CREATED:20251218T025621Z
LAST-MODIFIED:20251218T025621Z
UID:251971-1780876800-1781308799@hcs.sa.edu.au
SUMMARY:Term 2\, Week 7
DESCRIPTION:
URL:https://hcs.sa.edu.au/event/term-2-week-7/
CATEGORIES:Whole School
END:VEVENT
BEGIN:VEVENT
DTSTART;TZID=Australia/Adelaide:20260609T080000
DTEND;TZID=Australia/Adelaide:20260610T170000
DTSTAMP:20260417T103217
CREATED:20260413T061757Z
LAST-MODIFIED:20260413T061757Z
UID:252549-1780992000-1781110800@hcs.sa.edu.au
SUMMARY:Dental Visit (Follow up only)
DESCRIPTION:
URL:https://hcs.sa.edu.au/event/dental-visit-follow-up-only/
CATEGORIES:Whole School
ATTACH;FMTTYPE=image/jpeg:https://hcs.sa.edu.au/wp-content/uploads/Capture-10.jpg
END:VEVENT
BEGIN:VEVENT
DTSTART;TZID=Australia/Adelaide:20260610T183000
DTEND;TZID=Australia/Adelaide:20260611T203000
DTSTAMP:20260417T103217
CREATED:20251218T024707Z
LAST-MODIFIED:20251218T024707Z
UID:251939-1781116200-1781209800@hcs.sa.edu.au
SUMMARY:Whole School Production
DESCRIPTION:
URL:https://hcs.sa.edu.au/event/whole-school-production-3/
CATEGORIES:Whole School
ATTACH;FMTTYPE=image/jpeg:https://hcs.sa.edu.au/wp-content/uploads/2024.6-2024.6-School-Production-Night-1202-2-scaled.jpg
END:VEVENT
BEGIN:VEVENT
DTSTART;VALUE=DATE:20260615
DTEND;VALUE=DATE:20260620
DTSTAMP:20260417T103217
CREATED:20251218T025644Z
LAST-MODIFIED:20251218T025650Z
UID:251973-1781481600-1781913599@hcs.sa.edu.au
SUMMARY:Term 2\, Week 8
DESCRIPTION:
URL:https://hcs.sa.edu.au/event/term-2-week-8/
CATEGORIES:Whole School
END:VEVENT
BEGIN:VEVENT
DTSTART;VALUE=DATE:20260618
DTEND;VALUE=DATE:20260619
DTSTAMP:20260417T103217
CREATED:20260413T235626Z
LAST-MODIFIED:20260413T235626Z
UID:252566-1781740800-1781827199@hcs.sa.edu.au
SUMMARY:Governing Council Meeting
DESCRIPTION:
URL:https://hcs.sa.edu.au/event/governing-council-meeting-23/
CATEGORIES:Whole School
ATTACH;FMTTYPE=image/png:https://hcs.sa.edu.au/wp-content/uploads/2023/02/hcs_logo200.png
END:VEVENT
BEGIN:VEVENT
DTSTART;VALUE=DATE:20260619
DTEND;VALUE=DATE:20260620
DTSTAMP:20260417T103217
CREATED:20251218T024906Z
LAST-MODIFIED:20251218T024906Z
UID:251945-1781827200-1781913599@hcs.sa.edu.au
SUMMARY:End of Semester 1
DESCRIPTION:
URL:https://hcs.sa.edu.au/event/end-of-semester-1-4/
CATEGORIES:Whole School
END:VEVENT
BEGIN:VEVENT
DTSTART;VALUE=DATE:20260622
DTEND;VALUE=DATE:20260623
DTSTAMP:20260417T103217
CREATED:20251218T024932Z
LAST-MODIFIED:20251218T024932Z
UID:251947-1782086400-1782172799@hcs.sa.edu.au
SUMMARY:Start of Semester 2
DESCRIPTION:
URL:https://hcs.sa.edu.au/event/start-of-semester-2-5/
CATEGORIES:Whole School
END:VEVENT
BEGIN:VEVENT
DTSTART;VALUE=DATE:20260622
DTEND;VALUE=DATE:20260627
DTSTAMP:20260417T103217
CREATED:20251218T025716Z
LAST-MODIFIED:20251218T025716Z
UID:251975-1782086400-1782518399@hcs.sa.edu.au
SUMMARY:Term 2\, Week 9
DESCRIPTION:
URL:https://hcs.sa.edu.au/event/term-2-week-9/
CATEGORIES:Whole School
END:VEVENT
BEGIN:VEVENT
DTSTART;TZID=Australia/Adelaide:20260626T083500
DTEND;TZID=Australia/Adelaide:20260626T151000
DTSTAMP:20260417T103217
CREATED:20251218T022340Z
LAST-MODIFIED:20251218T022340Z
UID:251915-1782462900-1782486600@hcs.sa.edu.au
SUMMARY:Mid-Year Receptions Transition
DESCRIPTION:
URL:https://hcs.sa.edu.au/event/mid-year-receptions-transition-8/
CATEGORIES:Whole School
END:VEVENT
BEGIN:VEVENT
DTSTART;VALUE=DATE:20260629
DTEND;VALUE=DATE:20260704
DTSTAMP:20260417T103217
CREATED:20251218T025741Z
LAST-MODIFIED:20251218T025741Z
UID:251977-1782691200-1783123199@hcs.sa.edu.au
SUMMARY:Term 2\, Week 10
DESCRIPTION:
URL:https://hcs.sa.edu.au/event/term-2-week-10/
CATEGORIES:Whole School
END:VEVENT
BEGIN:VEVENT
DTSTART;VALUE=DATE:20260702
DTEND;VALUE=DATE:20260703
DTSTAMP:20260417T103217
CREATED:20251218T025113Z
LAST-MODIFIED:20251218T025113Z
UID:251951-1782950400-1783036799@hcs.sa.edu.au
SUMMARY:NAIDOC Week Celebrations
DESCRIPTION:
URL:https://hcs.sa.edu.au/event/naidoc-week-celebrations/
CATEGORIES:Whole School
END:VEVENT
BEGIN:VEVENT
DTSTART;TZID=Australia/Adelaide:20260703T080000
DTEND;TZID=Australia/Adelaide:20260703T170000
DTSTAMP:20260417T103217
CREATED:20251218T025143Z
LAST-MODIFIED:20251218T025143Z
UID:251953-1783065600-1783098000@hcs.sa.edu.au
SUMMARY:End of Term 2 - Students Dismissed at 2:10pm
DESCRIPTION:
URL:https://hcs.sa.edu.au/event/end-of-term-2-students-dismissed-at-210pm-2/
CATEGORIES:Whole School
END:VEVENT
BEGIN:VEVENT
DTSTART;VALUE=DATE:20260704
DTEND;VALUE=DATE:20260720
DTSTAMP:20260417T103217
CREATED:20251218T025251Z
LAST-MODIFIED:20251218T025251Z
UID:251955-1783123200-1784505599@hcs.sa.edu.au
SUMMARY:School Holidays
DESCRIPTION:
URL:https://hcs.sa.edu.au/event/school-holidays-5/
CATEGORIES:Whole School
END:VEVENT
BEGIN:VEVENT
DTSTART;VALUE=DATE:20260720
DTEND;VALUE=DATE:20260721
DTSTAMP:20260417T103217
CREATED:20251218T025319Z
LAST-MODIFIED:20251218T025319Z
UID:251957-1784505600-1784591999@hcs.sa.edu.au
SUMMARY:Pupil Free Day
DESCRIPTION:
URL:https://hcs.sa.edu.au/event/pupil-free-day-18/
CATEGORIES:Whole School
END:VEVENT
BEGIN:VEVENT
DTSTART;VALUE=DATE:20260720
DTEND;VALUE=DATE:20260725
DTSTAMP:20260417T103217
CREATED:20251218T025823Z
LAST-MODIFIED:20251218T025823Z
UID:251979-1784505600-1784937599@hcs.sa.edu.au
SUMMARY:Term 3\, Week 1
DESCRIPTION:
URL:https://hcs.sa.edu.au/event/term-3-week-1/
CATEGORIES:Whole School
END:VEVENT
BEGIN:VEVENT
DTSTART;VALUE=DATE:20260727
DTEND;VALUE=DATE:20260801
DTSTAMP:20260417T103217
CREATED:20251218T025849Z
LAST-MODIFIED:20251218T025849Z
UID:251981-1785110400-1785542399@hcs.sa.edu.au
SUMMARY:Term 3\, Week 2
DESCRIPTION:
URL:https://hcs.sa.edu.au/event/term-3-week-2/
CATEGORIES:Whole School
END:VEVENT
BEGIN:VEVENT
DTSTART;VALUE=DATE:20260803
DTEND;VALUE=DATE:20260808
DTSTAMP:20260417T103217
CREATED:20251218T025921Z
LAST-MODIFIED:20251218T025921Z
UID:251983-1785715200-1786147199@hcs.sa.edu.au
SUMMARY:Term 3\, Week 3
DESCRIPTION:
URL:https://hcs.sa.edu.au/event/term-3-week-3/
CATEGORIES:Whole School
END:VEVENT
END:VCALENDAR